BEGIN:VCALENDAR
VERSION:2.0
PRODID:-//https://juwelenbeurs.nl//NONSGML ProcessWire//DE
CALSCALE:GREGORIAN
METHOD:PUBLISH
BEGIN:VEVENT
SUMMARY:Het Juweel - Sparrendaal
UID:b09b2d8da02d154ebf9191251b24ae55@https://juwelenbeurs.nl
CLASS:PUBLIC
STATUS:CONFIRMED
DTSTART:20260605T202600
DTEND:20260607T202600
DTSTAMP:20260424T141238
URL:https://juwelenbeurs.nl
END:VEVENT
END:VCALENDAR